BEGIN:VCALENDAR
VERSION:2.0
PRODID:-//Tukios.com/
BEGIN:VEVENT
UID:ba106033-d04d-4c4d-b035-d738faa6d5f9@www.lawrencebrownservice.com
DTSTAMP:20260423T230458Z
DTSTART:20260427T160000Z
DTEND:20260427T170000Z
SUMMARY:Graveside Service
DESCRIPTION:
URL:https://www.lawrencebrownservice.com/obituaries/vicky-brown
LOCATION: 122 Ocmulgee Church Rd  Selma AL 36701
GEO:32.5203783;-87.1051148
END:VEVENT
END:VCALENDAR